BEGIN:VCALENDAR
VERSION:2.0
PRODID:-//Sisters School District - ECPv6.15.20//NONSGML v1.0//EN
CALSCALE:GREGORIAN
METHOD:PUBLISH
X-WR-CALNAME:Sisters School District
X-ORIGINAL-URL:https://district.ssd6.org
X-WR-CALDESC:Events for Sisters School District
REFRESH-INTERVAL;VALUE=DURATION:PT1H
X-Robots-Tag:noindex
X-PUBLISHED-TTL:PT1H
BEGIN:VTIMEZONE
TZID:America/Los_Angeles
BEGIN:DAYLIGHT
TZOFFSETFROM:-0800
TZOFFSETTO:-0700
TZNAME:PDT
DTSTART:20250309T100000
END:DAYLIGHT
BEGIN:STANDARD
TZOFFSETFROM:-0700
TZOFFSETTO:-0800
TZNAME:PST
DTSTART:20251102T090000
END:STANDARD
BEGIN:DAYLIGHT
TZOFFSETFROM:-0800
TZOFFSETTO:-0700
TZNAME:PDT
DTSTART:20260308T100000
END:DAYLIGHT
BEGIN:STANDARD
TZOFFSETFROM:-0700
TZOFFSETTO:-0800
TZNAME:PST
DTSTART:20261101T090000
END:STANDARD
BEGIN:DAYLIGHT
TZOFFSETFROM:-0800
TZOFFSETTO:-0700
TZNAME:PDT
DTSTART:20270314T100000
END:DAYLIGHT
BEGIN:STANDARD
TZOFFSETFROM:-0700
TZOFFSETTO:-0800
TZNAME:PST
DTSTART:20271107T090000
END:STANDARD
END:VTIMEZONE
BEGIN:VEVENT
DTSTART;VALUE=DATE:20260420
DTEND;VALUE=DATE:20260425
DTSTAMP:20260424T064433
CREATED:20260219T233954Z
LAST-MODIFIED:20260424T070323Z
UID:10002915-1776643200-1777075199@district.ssd6.org
SUMMARY:National Administrative Professional Week
DESCRIPTION:
URL:https://district.ssd6.org/event/national-administrative-professional-week/
CATEGORIES:Elementary School
ATTACH;FMTTYPE=image/png:https://district.ssd6.org/wp-content/uploads/2023/04/SSD-DefaultImage.png
END:VEVENT
BEGIN:VEVENT
DTSTART;VALUE=DATE:20260424
DTEND;VALUE=DATE:20260425
DTSTAMP:20260424T064433
CREATED:20260223T174033Z
LAST-MODIFIED:20260424T070323Z
UID:10002919-1776988800-1777075199@district.ssd6.org
SUMMARY:No School - In Service
DESCRIPTION:
URL:https://district.ssd6.org/event/no-school-in-service-2/
CATEGORIES:Elementary School
ATTACH;FMTTYPE=image/png:https://district.ssd6.org/wp-content/uploads/2023/04/SSD-DefaultImage.png
END:VEVENT
BEGIN:VEVENT
DTSTART;TZID=America/Los_Angeles:20260424T080000
DTEND;TZID=America/Los_Angeles:20260424T090000
DTSTAMP:20260424T064433
CREATED:20260311T210003Z
LAST-MODIFIED:20260424T070323Z
UID:10002948-1777017600-1777021200@district.ssd6.org
SUMMARY:KINDERGARTEN ROUNDUP 1st Session
DESCRIPTION:
URL:https://district.ssd6.org/event/kindergarten-roundup-1st-session/
CATEGORIES:Elementary School
ATTACH;FMTTYPE=image/png:https://district.ssd6.org/wp-content/uploads/2023/04/SSD-DefaultImage.png
END:VEVENT
BEGIN:VEVENT
DTSTART;TZID=America/Los_Angeles:20260424T080000
DTEND;TZID=America/Los_Angeles:20260424T090000
DTSTAMP:20260424T064433
CREATED:20260311T210014Z
LAST-MODIFIED:20260403T015439Z
UID:10002949-1777017600-1777021200@district.ssd6.org
SUMMARY:KINDERGARTEN ROUNDUP 1st Session
DESCRIPTION:
URL:https://district.ssd6.org/event/kindergarten-roundup-1st-session-2/
CATEGORIES:Elementary School
ATTACH;FMTTYPE=image/png:https://district.ssd6.org/wp-content/uploads/2023/04/SSD-DefaultImage.png
END:VEVENT
BEGIN:VEVENT
DTSTART;TZID=America/Los_Angeles:20260424T120000
DTEND;TZID=America/Los_Angeles:20260424T130000
DTSTAMP:20260424T064433
CREATED:20260311T210015Z
LAST-MODIFIED:20260403T015439Z
UID:10002950-1777032000-1777035600@district.ssd6.org
SUMMARY:Kindergarten Roundup - 2nd Session
DESCRIPTION:
URL:https://district.ssd6.org/event/kindergarten-roundup-2nd-session/
CATEGORIES:Elementary School
ATTACH;FMTTYPE=image/png:https://district.ssd6.org/wp-content/uploads/2023/04/SSD-DefaultImage.png
END:VEVENT
BEGIN:VEVENT
DTSTART;TZID=America/Los_Angeles:20260424T120000
DTEND;TZID=America/Los_Angeles:20260424T130000
DTSTAMP:20260424T064433
CREATED:20260311T210015Z
LAST-MODIFIED:20260424T070322Z
UID:10002951-1777032000-1777035600@district.ssd6.org
SUMMARY:Kindergarten Roundup - 2nd Session
DESCRIPTION:
URL:https://district.ssd6.org/event/kindergarten-roundup-2nd-session-2/
CATEGORIES:Elementary School
ATTACH;FMTTYPE=image/png:https://district.ssd6.org/wp-content/uploads/2023/04/SSD-DefaultImage.png
END:VEVENT
BEGIN:VEVENT
DTSTART;VALUE=DATE:20260427
DTEND;VALUE=DATE:20260523
DTSTAMP:20260424T064433
CREATED:20260226T202642Z
LAST-MODIFIED:20260424T070323Z
UID:10002927-1777248000-1779494399@district.ssd6.org
SUMMARY:Running Club
DESCRIPTION:
URL:https://district.ssd6.org/event/running-club/
CATEGORIES:Elementary School
ATTACH;FMTTYPE=image/png:https://district.ssd6.org/wp-content/uploads/2023/04/SSD-DefaultImage.png
END:VEVENT
BEGIN:VEVENT
DTSTART;TZID=America/Los_Angeles:20260427T083000
DTEND;TZID=America/Los_Angeles:20260427T103000
DTSTAMP:20260424T064433
CREATED:20260226T202642Z
LAST-MODIFIED:20260424T070323Z
UID:10002926-1777278600-1777285800@district.ssd6.org
SUMMARY:SPTC Board Meeting - Whychus
DESCRIPTION:
URL:https://district.ssd6.org/event/sptc-board-meeting-whychus-7/
CATEGORIES:Elementary School
ATTACH;FMTTYPE=image/png:https://district.ssd6.org/wp-content/uploads/2023/04/SSD-DefaultImage.png
END:VEVENT
BEGIN:VEVENT
DTSTART;VALUE=DATE:20260501
DTEND;VALUE=DATE:20260502
DTSTAMP:20260424T064433
CREATED:20260303T000959Z
LAST-MODIFIED:20260424T070323Z
UID:10002929-1777593600-1777679999@district.ssd6.org
SUMMARY:School Principals Day
DESCRIPTION:
URL:https://district.ssd6.org/event/school-principals-day/
CATEGORIES:Elementary School
ATTACH;FMTTYPE=image/png:https://district.ssd6.org/wp-content/uploads/2023/04/SSD-DefaultImage.png
END:VEVENT
BEGIN:VEVENT
DTSTART;VALUE=DATE:20260504
DTEND;VALUE=DATE:20260509
DTSTAMP:20260424T064433
CREATED:20260305T183412Z
LAST-MODIFIED:20260424T070323Z
UID:10002931-1777852800-1778284799@district.ssd6.org
SUMMARY:Screen Free Week
DESCRIPTION:
URL:https://district.ssd6.org/event/screen-free-week/
CATEGORIES:Elementary School
ATTACH;FMTTYPE=image/png:https://district.ssd6.org/wp-content/uploads/2023/04/SSD-DefaultImage.png
END:VEVENT
BEGIN:VEVENT
DTSTART;VALUE=DATE:20260504
DTEND;VALUE=DATE:20260509
DTSTAMP:20260424T064433
CREATED:20260305T183412Z
LAST-MODIFIED:20260424T070323Z
UID:10002932-1777852800-1778284799@district.ssd6.org
SUMMARY:Staff Appreciation Week/Teacher Appreciation Week
DESCRIPTION:
URL:https://district.ssd6.org/event/staff-appreciation-week-teacher-appreciation-week/
CATEGORIES:Elementary School
ATTACH;FMTTYPE=image/png:https://district.ssd6.org/wp-content/uploads/2023/04/SSD-DefaultImage.png
END:VEVENT
BEGIN:VEVENT
DTSTART;TZID=America/Los_Angeles:20260505T180000
DTEND;TZID=America/Los_Angeles:20260505T190000
DTSTAMP:20260424T064433
CREATED:20260307T190510Z
LAST-MODIFIED:20260424T070323Z
UID:10002934-1778004000-1778007600@district.ssd6.org
SUMMARY:SPTC Meeting
DESCRIPTION:
URL:https://district.ssd6.org/event/sptc-meeting-11/
CATEGORIES:Elementary School
ATTACH;FMTTYPE=image/png:https://district.ssd6.org/wp-content/uploads/2023/04/SSD-DefaultImage.png
END:VEVENT
BEGIN:VEVENT
DTSTART;VALUE=DATE:20260506
DTEND;VALUE=DATE:20260507
DTSTAMP:20260424T064433
CREATED:20260307T190510Z
LAST-MODIFIED:20260424T070323Z
UID:10002933-1778025600-1778111999@district.ssd6.org
SUMMARY:School Nurse Day
DESCRIPTION:
URL:https://district.ssd6.org/event/school-nurse-day/
CATEGORIES:Elementary School
ATTACH;FMTTYPE=image/png:https://district.ssd6.org/wp-content/uploads/2023/04/SSD-DefaultImage.png
END:VEVENT
BEGIN:VEVENT
DTSTART;VALUE=DATE:20260515
DTEND;VALUE=DATE:20260516
DTSTAMP:20260424T064433
CREATED:20260316T171919Z
LAST-MODIFIED:20260424T070323Z
UID:10002956-1778803200-1778889599@district.ssd6.org
SUMMARY:No School - In-Service
DESCRIPTION:
URL:https://district.ssd6.org/event/no-school-in-service-3/
CATEGORIES:Elementary School
ATTACH;FMTTYPE=image/png:https://district.ssd6.org/wp-content/uploads/2023/04/SSD-DefaultImage.png
END:VEVENT
BEGIN:VEVENT
DTSTART;TZID=America/Los_Angeles:20260518T083000
DTEND;TZID=America/Los_Angeles:20260518T103000
DTSTAMP:20260424T064433
CREATED:20260319T174859Z
LAST-MODIFIED:20260424T070323Z
UID:10002960-1779093000-1779100200@district.ssd6.org
SUMMARY:SPTC Board Meeting -Whychus
DESCRIPTION:
URL:https://district.ssd6.org/event/sptc-board-meeting-whychus-8/
CATEGORIES:Elementary School
ATTACH;FMTTYPE=image/png:https://district.ssd6.org/wp-content/uploads/2023/04/SSD-DefaultImage.png
END:VEVENT
BEGIN:VEVENT
DTSTART;VALUE=DATE:20260519
DTEND;VALUE=DATE:20260520
DTSTAMP:20260424T064433
CREATED:20260320T180336Z
LAST-MODIFIED:20260424T070323Z
UID:10002961-1779148800-1779235199@district.ssd6.org
SUMMARY:Volunteer Recognition Tea
DESCRIPTION:
URL:https://district.ssd6.org/event/volunteer-recognition-tea/
CATEGORIES:Elementary School
ATTACH;FMTTYPE=image/png:https://district.ssd6.org/wp-content/uploads/2023/04/SSD-DefaultImage.png
END:VEVENT
BEGIN:VEVENT
DTSTART;VALUE=DATE:20260525
DTEND;VALUE=DATE:20260526
DTSTAMP:20260424T064433
CREATED:20260326T000529Z
LAST-MODIFIED:20260424T070323Z
UID:10002968-1779667200-1779753599@district.ssd6.org
SUMMARY:Memorial Day - No School
DESCRIPTION:
URL:https://district.ssd6.org/event/memorial-day-no-school/
CATEGORIES:Elementary School
ATTACH;FMTTYPE=image/png:https://district.ssd6.org/wp-content/uploads/2023/04/SSD-DefaultImage.png
END:VEVENT
BEGIN:VEVENT
DTSTART;VALUE=DATE:20260526
DTEND;VALUE=DATE:20260530
DTSTAMP:20260424T064433
CREATED:20260328T002234Z
LAST-MODIFIED:20260424T070323Z
UID:10002969-1779753600-1780099199@district.ssd6.org
SUMMARY:Spring Book Fair
DESCRIPTION:
URL:https://district.ssd6.org/event/spring-book-fair-2/
CATEGORIES:Elementary School
ATTACH;FMTTYPE=image/png:https://district.ssd6.org/wp-content/uploads/2023/04/SSD-DefaultImage.png
END:VEVENT
BEGIN:VEVENT
DTSTART;VALUE=DATE:20260528
DTEND;VALUE=DATE:20260530
DTSTAMP:20260424T064433
CREATED:20260329T000712Z
LAST-MODIFIED:20260424T070323Z
UID:10002971-1779926400-1780099199@district.ssd6.org
SUMMARY:Student Led Parent Teacher Conferences - No School
DESCRIPTION:
URL:https://district.ssd6.org/event/student-led-parent-teacher-conferences-no-school/
CATEGORIES:Elementary School
ATTACH;FMTTYPE=image/png:https://district.ssd6.org/wp-content/uploads/2023/04/SSD-DefaultImage.png
END:VEVENT
BEGIN:VEVENT
DTSTART;TZID=America/Los_Angeles:20260602T180000
DTEND;TZID=America/Los_Angeles:20260602T190000
DTSTAMP:20260424T064433
CREATED:20260404T000342Z
LAST-MODIFIED:20260424T070323Z
UID:10002989-1780423200-1780426800@district.ssd6.org
SUMMARY:SPTC Meeting
DESCRIPTION:
URL:https://district.ssd6.org/event/sptc-meeting-12/
CATEGORIES:Elementary School
ATTACH;FMTTYPE=image/png:https://district.ssd6.org/wp-content/uploads/2023/04/SSD-DefaultImage.png
END:VEVENT
BEGIN:VEVENT
DTSTART;TZID=America/Los_Angeles:20260615T123000
DTEND;TZID=America/Los_Angeles:20260615T143000
DTSTAMP:20260424T064433
CREATED:20260416T000352Z
LAST-MODIFIED:20260424T070323Z
UID:10003001-1781526600-1781533800@district.ssd6.org
SUMMARY:Field Day 3rd-5th
DESCRIPTION:
URL:https://district.ssd6.org/event/field-day-3rd-5th-2/
CATEGORIES:Elementary School
ATTACH;FMTTYPE=image/png:https://district.ssd6.org/wp-content/uploads/2023/04/SSD-DefaultImage.png
END:VEVENT
BEGIN:VEVENT
DTSTART;VALUE=DATE:20260616
DTEND;VALUE=DATE:20260617
DTSTAMP:20260424T064433
CREATED:20260418T000508Z
LAST-MODIFIED:20260424T070323Z
UID:10003010-1781568000-1781654399@district.ssd6.org
SUMMARY:Last Day of School
DESCRIPTION:
URL:https://district.ssd6.org/event/last-day-of-school/
CATEGORIES:Elementary School
ATTACH;FMTTYPE=image/png:https://district.ssd6.org/wp-content/uploads/2023/04/SSD-DefaultImage.png
END:VEVENT
BEGIN:VEVENT
DTSTART;TZID=America/Los_Angeles:20260616T123000
DTEND;TZID=America/Los_Angeles:20260616T143000
DTSTAMP:20260424T064433
CREATED:20260418T000454Z
LAST-MODIFIED:20260424T070323Z
UID:10003009-1781613000-1781620200@district.ssd6.org
SUMMARY:Kindergarten - 2nd Field Day
DESCRIPTION:
URL:https://district.ssd6.org/event/kindergarten-2nd-field-day/
CATEGORIES:Elementary School
ATTACH;FMTTYPE=image/png:https://district.ssd6.org/wp-content/uploads/2023/04/SSD-DefaultImage.png
END:VEVENT
BEGIN:VEVENT
DTSTART;VALUE=DATE:20260619
DTEND;VALUE=DATE:20260829
DTSTAMP:20260424T064433
CREATED:20260420T000334Z
LAST-MODIFIED:20260424T070323Z
UID:10003013-1781827200-1787961599@district.ssd6.org
SUMMARY:SUMMER BREAK
DESCRIPTION:
URL:https://district.ssd6.org/event/summer-break-2/
CATEGORIES:Elementary School
ATTACH;FMTTYPE=image/png:https://district.ssd6.org/wp-content/uploads/2023/04/SSD-DefaultImage.png
END:VEVENT
END:VCALENDAR